
BEGIN:VCALENDAR
VERSION:2.0
CALSCALE:GREGORIAN
BEGIN:VEVENT
URL;VALUE=URI:https://www.boardoftrade.com/events/7503
DTSTART:20220914T230000Z
DTEND:20220915T020000Z
UID:7503eventcalendar.boardoftrade.com
DTSTAMP:20260419T130600Z
LOCATION:Seawall Adventure Centre:  1095 W Waterfront Rd
DESCRIPTION:Schedule: \nBike Ride around Stanley Park: 4:00 - 5:15 p.m.  Networking at The Vancouver Club: 5:30 - 7:00 p.m.\n \nEvent Detail Page: https://www.boardoftrade.com/events/7503
X-ALT-DESC;FMTTYPE=text/html:<!doctype html><html><body><div>Schedule: <p>Bike Ride around Stanley Park: 4:00 - 5:15 p.m.  Networking at The Vancouver Club: 5:30 - 7:00 p.m.</p></div>&nbsp\;<div>Event Detail Page: https://www.boardoftrade.com/events/7503</div></body></html>

SUMMARY:Member's Experience:  Seawall Adventure Centre and The Vancouver Club
END:VEVENT
END:VCALENDAR