
BEGIN:VCALENDAR
VERSION:2.0
CALSCALE:GREGORIAN
BEGIN:VEVENT
URL;VALUE=URI:https://www.boardoftrade.com/events/7502
DTSTART:20220920T160000Z
DTEND:20220920T173000Z
UID:7502eventcalendar.boardoftrade.com
DTSTAMP:20260419T142127Z
LOCATION:
DESCRIPTION:Schedule: \nOnline Program: 9:00 - 10:30 a.m. PT\n \nEvent Detail Page: https://www.boardoftrade.com/events/7502
X-ALT-DESC;FMTTYPE=text/html:<!doctype html><html><body><div>Schedule: <p>Online Program: 9:00 - 10:30 a.m. PT</p></div>&nbsp\;<div>Event Detail Page: https://www.boardoftrade.com/events/7502</div></body></html>

SUMMARY:Board 101 - Member Orientation
END:VEVENT
END:VCALENDAR