
BEGIN:VCALENDAR
VERSION:2.0
CALSCALE:GREGORIAN
BEGIN:VEVENT
URL;VALUE=URI:https://www.boardoftrade.com/events/6926
DTSTART:20220914T003000Z
DTEND:20220914T023000Z
UID:6926eventcalendar.boardoftrade.com
DTSTAMP:20260419T130719Z
LOCATION:Fairmont Hotel Vancouver  | Saturna Ballroom900 W Georgia St.Vancouver | 
DESCRIPTION:Schedule: \nRegistration & Reception: 5:30 – 6:00 p.m. \nKeynote & Fireside Chat: 6:00 - 6:30 p.m.\nGraduation Ceremony: 6:30 - 7:00 p.m.\nNetworking Reception: 7:00 - 7:30 p.m.\n\n \nEvent Detail Page: https://www.boardoftrade.com/events/6926
X-ALT-DESC;FMTTYPE=text/html:<!doctype html><html><body><div>Schedule: <p>Registration & Reception: 5:30 – 6:00 p.m. <BR>Keynote & Fireside Chat: 6:00 - 6:30 p.m.<BR>Graduation Ceremony: 6:30 - 7:00 p.m.<BR>Networking Reception: 7:00 - 7:30 p.m.<BR></p></div>&nbsp\;<div>Event Detail Page: https://www.boardoftrade.com/events/6926</div></body></html>

SUMMARY:2021-22 LOT Graduation and New Student Welcome
END:VEVENT
END:VCALENDAR