
BEGIN:VCALENDAR
VERSION:2.0
CALSCALE:GREGORIAN
BEGIN:VEVENT
URL;VALUE=URI:https://www.boardoftrade.com/events/6920
DTSTART:20221206T163000Z
DTEND:20221206T220000Z
UID:6920eventcalendar.boardoftrade.com
DTSTAMP:20260419T142341Z
LOCATION:SFU | Segal Graduate School of Business 500 Granville St\, Vancouver
DESCRIPTION:Schedule: \nMorning Snack & Registration: 8:30 a.m. - 9:00 a.m. \nProgram: 9:00 a.m. - 1:00 p.m.\nNetworking Lunch: 1:00 p.m. - 2:00 p.m.\n \nEvent Detail Page: https://www.boardoftrade.com/events/6920
X-ALT-DESC;FMTTYPE=text/html:<!doctype html><html><body><div>Schedule: <p>Morning Snack & Registration: 8:30 a.m. - 9:00 a.m. <BR>Program: 9:00 a.m. - 1:00 p.m.<BR>Networking Lunch: 1:00 p.m. - 2:00 p.m.</p></div>&nbsp\;<div>Event Detail Page: https://www.boardoftrade.com/events/6920</div></body></html>

SUMMARY:Incoterms® - International Contracts & Shipping Workshop
END:VEVENT
END:VCALENDAR