
BEGIN:VCALENDAR
VERSION:2.0
CALSCALE:GREGORIAN
BEGIN:VEVENT
URL;VALUE=URI:https://www.boardoftrade.com/events/6919
DTSTART:20220915T150000Z
DTEND:20220915T190000Z
UID:6919eventcalendar.boardoftrade.com
DTSTAMP:20260419T130720Z
LOCATION:Fairmont Hotel Vancouver | BC Ballroom  | 900 W Georgia St.\, Vancouver | 
DESCRIPTION:Schedule: \nRegistration and Breakfast: 8:00 - 8:30 a.m PT\nProgram: 8:30 a.m - 12:00 p.m. PT \n \nEvent Detail Page: https://www.boardoftrade.com/events/6919
X-ALT-DESC;FMTTYPE=text/html:<!doctype html><html><body><div>Schedule: <p>Registration and Breakfast: 8:00 - 8:30 a.m PT<BR>Program: 8:30 a.m - 12:00 p.m. PT </p></div>&nbsp\;<div>Event Detail Page: https://www.boardoftrade.com/events/6919</div></body></html>

SUMMARY:Indigenous Opportunities Forum 2022 Presented by CN
END:VEVENT
END:VCALENDAR