
BEGIN:VCALENDAR
VERSION:2.0
CALSCALE:GREGORIAN
BEGIN:VEVENT
URL;VALUE=URI:https://www.boardoftrade.com/events/6918
DTSTART:20220920T183000Z
DTEND:20220920T200000Z
UID:6918eventcalendar.boardoftrade.com
DTSTAMP:20260419T142341Z
LOCATION:Fairmont Hotel Vancouver | BC Ballroom  | 900 W Georgia St.\, Vancouver  | 
DESCRIPTION:Schedule: \nRegistration and Lunch:  11:30 a.m. - 12:00 p.m. PT\nProgram:  12:00 - 1:00 p.m. PT\n \nEvent Detail Page: https://www.boardoftrade.com/events/6918
X-ALT-DESC;FMTTYPE=text/html:<!doctype html><html><body><div>Schedule: <p>Registration and Lunch:  11:30 a.m. - 12:00 p.m. PT<BR>Program:  12:00 - 1:00 p.m. PT</p></div>&nbsp\;<div>Event Detail Page: https://www.boardoftrade.com/events/6918</div></body></html>

SUMMARY:Seizing the Moment: Canadians Want More Mining – Can We Deliver?
END:VEVENT
END:VCALENDAR