
BEGIN:VCALENDAR
VERSION:2.0
CALSCALE:GREGORIAN
BEGIN:VEVENT
URL;VALUE=URI:https://www.boardoftrade.com/events/6915
DTSTART:20220713T003000Z
DTEND:20220713T023000Z
UID:6915eventcalendar.boardoftrade.com
DTSTAMP:20260419T130727Z
LOCATION:The Vancouver Club 915 W Hastings Street VancouverRoom: The University Room | 
DESCRIPTION:Schedule: \nRegistration & Networking Reception: 5:30 – 6:00p.m.\nKeynote & Fireside Chat: 6:00 - 6:30p.m.\nGraduation Ceremony: 6:30 - 7:00p.m. \nNetworking Reception: 7:00 - 7:30p.m.                  \n\n \nEvent Detail Page: https://www.boardoftrade.com/events/6915
X-ALT-DESC;FMTTYPE=text/html:<!doctype html><html><body><div>Schedule: <p>Registration & Networking Reception: 5:30 – 6:00p.m.<BR>Keynote & Fireside Chat: 6:00 - 6:30p.m.<BR>Graduation Ceremony: 6:30 - 7:00p.m. <BR>Networking Reception: 7:00 - 7:30p.m.                  <BR></p></div>&nbsp\;<div>Event Detail Page: https://www.boardoftrade.com/events/6915</div></body></html>

SUMMARY:Engaged Leadership Grad Night and Networking
END:VEVENT
END:VCALENDAR