
BEGIN:VCALENDAR
VERSION:2.0
CALSCALE:GREGORIAN
BEGIN:VEVENT
URL;VALUE=URI:https://www.boardoftrade.com/events/6912
DTSTART:20220622T003000Z
DTEND:20220622T023000Z
UID:6912eventcalendar.boardoftrade.com
DTSTAMP:20260419T130727Z
LOCATION:
DESCRIPTION:Schedule: \nOnline Program: 5:30 - 7:30 p.m. PT\n\n\n<i>You will be sent a Zoom link to participate in this event by 2:00 p.m. PT on June 21. Please don’t share the link as it will inhibit your ability to join.</i>\n \nEvent Detail Page: https://www.boardoftrade.com/events/6912
X-ALT-DESC;FMTTYPE=text/html:<!doctype html><html><body><div>Schedule: <p>Online Program: 5:30 - 7:30 p.m. PT<BR><BR><BR><i>You will be sent a Zoom link to participate in this event by 2:00 p.m. PT on June 21. Please don’t share the link as it will inhibit your ability to join.</i></p></div>&nbsp\;<div>Event Detail Page: https://www.boardoftrade.com/events/6912</div></body></html>

SUMMARY:Discovery Series: Speed Interview Night 2022
END:VEVENT
END:VCALENDAR