
BEGIN:VCALENDAR
VERSION:2.0
CALSCALE:GREGORIAN
BEGIN:VEVENT
URL;VALUE=URI:https://www.boardoftrade.com/events/6909
DTSTART:20221004T160000Z
DTEND:20221004T233000Z
UID:6909eventcalendar.boardoftrade.com
DTSTAMP:20260419T142325Z
LOCATION:KPMG - 777 Dunsmuir St 11th Floor\, Vancouver\, BC V7Y 1K3 | 
DESCRIPTION:Schedule: \nRegistration:  8:30 a.m. - 9:00 a.m. \nWorkshop Days:  9:00 a.m. - 4:30 p.m.\nMentorship Days:  8:30 a.m. - 12:30 p.m.\n \nEvent Detail Page: https://www.boardoftrade.com/events/6909
X-ALT-DESC;FMTTYPE=text/html:<!doctype html><html><body><div>Schedule: <p>Registration: &nbsp\;8:30 a.m. - 9:00 a.m. <BR>Workshop Days: &nbsp\;9:00 a.m. - 4:30 p.m.<BR>Mentorship Days: &nbsp\;8:30 a.m. - 12:30 p.m.</p></div>&nbsp\;<div>Event Detail Page: https://www.boardoftrade.com/events/6909</div></body></html>

SUMMARY:Trade Accelerator Program: Creative Industries
END:VEVENT
END:VCALENDAR