
BEGIN:VCALENDAR
VERSION:2.0
CALSCALE:GREGORIAN
BEGIN:VEVENT
URL;VALUE=URI:https://www.boardoftrade.com/events/6906
DTSTART:20220629T190000Z
DTEND:20220629T200000Z
UID:6906eventcalendar.boardoftrade.com
DTSTAMP:20260419T130617Z
LOCATION:
DESCRIPTION:Schedule: \nOnline Program: 12:00 - 1:00 p.m. PT\n\n<i>You will be sent a Zoom link to participate in this event by 9:00 a.m. PT on June 29. Please don’t share the link as it will inhibit your ability to join.</i>\n \nEvent Detail Page: https://www.boardoftrade.com/events/6906
X-ALT-DESC;FMTTYPE=text/html:<!doctype html><html><body><div>Schedule: <p>Online Program: 12:00 - 1:00 p.m. PT<BR><BR><i>You will be sent a Zoom link to participate in this event by 9:00 a.m. PT on June 29. Please don’t share the link as it will inhibit your ability to join.</i></p></div>&nbsp\;<div>Event Detail Page: https://www.boardoftrade.com/events/6906</div></body></html>

SUMMARY:Three keys to building a successful Digital Adoption Plan
END:VEVENT
END:VCALENDAR