
BEGIN:VCALENDAR
VERSION:2.0
CALSCALE:GREGORIAN
BEGIN:VEVENT
URL;VALUE=URI:https://www.boardoftrade.com/events/6902
DTSTART:20220708T193000Z
DTEND:20220708T230000Z
UID:6902eventcalendar.boardoftrade.com
DTSTAMP:20260419T130618Z
LOCATION:BC Place Stadium | 777 Pacific Blvd | Vancouver | 
DESCRIPTION:Schedule: \nArrive at the Stadium: 12:30 p.m.\nGVBOT Corporate Cup Kick off: 1:00 - 4:00 p.m.\n\n<strong>Watch Match:</strong>\n Vancouver Whitecaps vs Minnesota United: 7:30 p.m.\n \nEvent Detail Page: https://www.boardoftrade.com/events/6902
X-ALT-DESC;FMTTYPE=text/html:<!doctype html><html><body><div>Schedule: <p>Arrive at the Stadium: 12:30 p.m.<BR>GVBOT Corporate Cup Kick off: 1:00 - 4:00 p.m.<BR><BR><strong>Watch Match:</strong><BR> Vancouver Whitecaps vs Minnesota United: 7:30 p.m.</p></div>&nbsp\;<div>Event Detail Page: https://www.boardoftrade.com/events/6902</div></body></html>

SUMMARY:GVBOT Corporate Cup with The Vancouver Whitecaps FC
END:VEVENT
END:VCALENDAR