
BEGIN:VCALENDAR
VERSION:2.0
CALSCALE:GREGORIAN
BEGIN:VEVENT
URL;VALUE=URI:https://www.boardoftrade.com/events/6891
DTSTART:20220616T000000Z
DTEND:20220616T020000Z
UID:6891eventcalendar.boardoftrade.com
DTSTAMP:20260419T130536Z
LOCATION:Sea to Sky Gondola | 36800 BC - 99 | Squamish  | 
DESCRIPTION:Schedule: \nComplimentary shuttle from Canada Place: 3:30 p.m.\nGondola ride begins: 4:30 p.m.\nFirst guided walk: 5:00 - 5:30 p.m \nSecond guided walk: 5:45 - 6:15 p.m.\nReception: 5:30 - 7:00 p.m.\nComplimentary shuttle departs: 7:00 p.m.\n\n \nEvent Detail Page: https://www.boardoftrade.com/events/6891
X-ALT-DESC;FMTTYPE=text/html:<!doctype html><html><body><div>Schedule: <p>Complimentary shuttle from Canada Place: 3:30 p.m.<BR>Gondola ride begins: 4:30 p.m.<BR>First guided walk: 5:00 - 5:30 p.m <BR>Second guided walk: 5:45 - 6:15 p.m.<BR>Reception: 5:30 - 7:00 p.m.<BR>Complimentary shuttle departs: 7:00 p.m.<BR></p></div>&nbsp\;<div>Event Detail Page: https://www.boardoftrade.com/events/6891</div></body></html>

SUMMARY:Members' Experience with Sea to Sky Gondola
END:VEVENT
END:VCALENDAR