
BEGIN:VCALENDAR
VERSION:2.0
CALSCALE:GREGORIAN
BEGIN:VEVENT
URL;VALUE=URI:https://www.boardoftrade.com/events/6888
DTSTART:20221027T184500Z
DTEND:20221027T203000Z
UID:6888eventcalendar.boardoftrade.com
DTSTAMP:20260419T143513Z
LOCATION:Vancouver Convention Centre - East | Exhibition Hall A | 1055 Canada Place\, Vancouver | 
DESCRIPTION:Schedule: \nRegistration & Lunch: 11:45 a.m. - 12:30 p.m. PT\nProgram: 12:30 - 1:30 p.m. PT\n \nEvent Detail Page: https://www.boardoftrade.com/events/6888
X-ALT-DESC;FMTTYPE=text/html:<!doctype html><html><body><div>Schedule: <p>Registration & Lunch: 11:45 a.m. - 12:30 p.m. PT<BR>Program: 12:30 - 1:30 p.m. PT</p></div>&nbsp\;<div>Event Detail Page: https://www.boardoftrade.com/events/6888</div></body></html>

SUMMARY:YVR — The Future of Growth and Connection
END:VEVENT
END:VCALENDAR