
BEGIN:VCALENDAR
VERSION:2.0
CALSCALE:GREGORIAN
BEGIN:VEVENT
URL;VALUE=URI:https://www.boardoftrade.com/events/6882
DTSTART:20220505T160000Z
DTEND:20220505T180000Z
UID:6882eventcalendar.boardoftrade.com
DTSTAMP:20260419T142155Z
LOCATION:
DESCRIPTION:Schedule: \nOnline Program 9:00  - 11:00 a.m. PT\n \nEvent Detail Page: https://www.boardoftrade.com/events/6882
X-ALT-DESC;FMTTYPE=text/html:<!doctype html><html><body><div>Schedule: <p>Online Program 9:00  - 11:00 a.m. PT</p></div>&nbsp\;<div>Event Detail Page: https://www.boardoftrade.com/events/6882</div></body></html>

SUMMARY:Gender in the Workplace
END:VEVENT
END:VCALENDAR