
BEGIN:VCALENDAR
VERSION:2.0
CALSCALE:GREGORIAN
BEGIN:VEVENT
URL;VALUE=URI:https://www.boardoftrade.com/events/6872
DTSTART:20220629T143000Z
DTEND:20220629T163000Z
UID:6872eventcalendar.boardoftrade.com
DTSTAMP:20260419T130534Z
LOCATION:Fairmont Hotel Vancouver | Saturna Island Ballroom  | 900 W Georgia St.\, Vancouver  | 
DESCRIPTION:Schedule: \nRegistration\, Breakfast & Networking: 7:30 a.m. - 8:00 a.m. PT\nProgram: 8:00 a.m. - 9:30 a.m. PT\n \nEvent Detail Page: https://www.boardoftrade.com/events/6872
X-ALT-DESC;FMTTYPE=text/html:<!doctype html><html><body><div>Schedule: <p>Registration\, Breakfast & Networking: 7:30 a.m. - 8:00 a.m. PT<BR>Program: 8:00 a.m. - 9:30 a.m. PT</p></div>&nbsp\;<div>Event Detail Page: https://www.boardoftrade.com/events/6872</div></body></html>

SUMMARY:Emergency Preparedness & Business Resilience
END:VEVENT
END:VCALENDAR