
BEGIN:VCALENDAR
VERSION:2.0
CALSCALE:GREGORIAN
BEGIN:VEVENT
URL;VALUE=URI:https://www.boardoftrade.com/events/6870
DTSTART:20220505T183000Z
DTEND:20220505T203000Z
UID:6870eventcalendar.boardoftrade.com
DTSTAMP:20260419T142049Z
LOCATION:Fairmont Hotel Vancouver  | Saturna Ballroom900 W Georgia St.\, Vancouver | 
DESCRIPTION:Schedule: \nRegistration\, Lunch & Networking: 11:30 a.m. - 12:30 p.m. PT\nProgram: 12:30 - 1:30 p.m. PT\n \nEvent Detail Page: https://www.boardoftrade.com/events/6870
X-ALT-DESC;FMTTYPE=text/html:<!doctype html><html><body><div>Schedule: <p>Registration\, Lunch & Networking: 11:30 a.m. - 12:30 p.m. PT<BR>Program: 12:30 - 1:30 p.m. PT</p></div>&nbsp\;<div>Event Detail Page: https://www.boardoftrade.com/events/6870</div></body></html>

SUMMARY:Changing Mines\, Changing Minds
END:VEVENT
END:VCALENDAR