
BEGIN:VCALENDAR
VERSION:2.0
CALSCALE:GREGORIAN
BEGIN:VEVENT
URL;VALUE=URI:https://www.boardoftrade.com/events/6868
DTSTART:20220309T013000Z
DTEND:20220309T023000Z
UID:6868eventcalendar.boardoftrade.com
DTSTAMP:20260419T142127Z
LOCATION:
DESCRIPTION:Schedule: \nOnline Program: 5:30 - 6:30 p.m. PT\n \nEvent Detail Page: https://www.boardoftrade.com/events/6868
X-ALT-DESC;FMTTYPE=text/html:<!doctype html><html><body><div>Schedule: <p>Online Program: 5:30 - 6:30 p.m. PT</p></div>&nbsp\;<div>Event Detail Page: https://www.boardoftrade.com/events/6868</div></body></html>

SUMMARY:LOT Discovery Series: Lessons in Leadership
END:VEVENT
END:VCALENDAR