
BEGIN:VCALENDAR
VERSION:2.0
CALSCALE:GREGORIAN
BEGIN:VEVENT
URL;VALUE=URI:https://www.boardoftrade.com/events/6862
DTSTART:20220728T163000Z
DTEND:20220729T030000Z
UID:6862eventcalendar.boardoftrade.com
DTSTAMP:20260419T130601Z
LOCATION:Westwood Plateau Golf &amp\; Country Club | 3251 Plateau Blvd  | Coquitlam | 
DESCRIPTION:Schedule: \nRegistration and Breakfast: 9:30 a.m. \n\nShotgun Start: 11:00 a.m. \n\nDinner and Awards: 5:30 p.m.\n \nEvent Detail Page: https://www.boardoftrade.com/events/6862
X-ALT-DESC;FMTTYPE=text/html:<!doctype html><html><body><div>Schedule: <p>Registration and Breakfast: 9:30 a.m. <BR><BR><b>Shotgun Start: 11:00 a.m. </b><BR><BR>Dinner and Awards: 5:30 p.m.</p></div>&nbsp\;<div>Event Detail Page: https://www.boardoftrade.com/events/6862</div></body></html>

SUMMARY:Pro-Am Golf Tournament 2022
END:VEVENT
END:VCALENDAR