
BEGIN:VCALENDAR
VERSION:2.0
CALSCALE:GREGORIAN
BEGIN:VEVENT
URL;VALUE=URI:https://www.boardoftrade.com/events/6853
DTSTART:20220225T180000Z
DTEND:20220225T190000Z
UID:6853eventcalendar.boardoftrade.com
DTSTAMP:20260419T141921Z
LOCATION:
DESCRIPTION:Schedule: \nOnline Program 10:00 - 11:00 a.m. PT\n \nEvent Detail Page: https://www.boardoftrade.com/events/6853
X-ALT-DESC;FMTTYPE=text/html:<!doctype html><html><body><div>Schedule: <p>Online Program 10:00 - 11:00 a.m. PT</p></div>&nbsp\;<div>Event Detail Page: https://www.boardoftrade.com/events/6853</div></body></html>

SUMMARY:B.C. Budget Recap with Minister Selina Robinson
END:VEVENT
END:VCALENDAR