
BEGIN:VCALENDAR
VERSION:2.0
CALSCALE:GREGORIAN
BEGIN:VEVENT
URL;VALUE=URI:https://www.boardoftrade.com/events/6850
DTSTART:20220331T000000Z
DTEND:20220331T020000Z
UID:6850eventcalendar.boardoftrade.com
DTSTAMP:20260419T142154Z
LOCATION:FlyOver Canada - Flying Whale Watefront Cafe | 201 - 999 Canada Place | Vancouver | 
DESCRIPTION:Schedule: \nReception: 5:00 - 7:00 p.m.\n \nEvent Detail Page: https://www.boardoftrade.com/events/6850
X-ALT-DESC;FMTTYPE=text/html:<!doctype html><html><body><div>Schedule: <p>Reception: 5:00 - 7:00 p.m.</p></div>&nbsp\;<div>Event Detail Page: https://www.boardoftrade.com/events/6850</div></body></html>

SUMMARY:Members' Reception with FlyOver Canada
END:VEVENT
END:VCALENDAR