
BEGIN:VCALENDAR
VERSION:2.0
CALSCALE:GREGORIAN
BEGIN:VEVENT
URL;VALUE=URI:https://www.boardoftrade.com/events/6846
DTSTART:20220412T220000Z
DTEND:20220413T020000Z
UID:6846eventcalendar.boardoftrade.com
DTSTAMP:20260419T142006Z
LOCATION:Fairmont Hotel Vancouver | BC Ballroom | 900 W Georgia Street\, Vancouver |  |  | 
DESCRIPTION:Schedule: \nRegistration and trade show: 3:00 - 7:00 p.m.\n \nEvent Detail Page: https://www.boardoftrade.com/events/6846
X-ALT-DESC;FMTTYPE=text/html:<!doctype html><html><body><div>Schedule: <p>Registration and trade show: 3:00 - 7:00 p.m.</p></div>&nbsp\;<div>Event Detail Page: https://www.boardoftrade.com/events/6846</div></body></html>

SUMMARY:Greater Vancouver Board of <em>Trade Show</em>
END:VEVENT
END:VCALENDAR