
BEGIN:VCALENDAR
VERSION:2.0
CALSCALE:GREGORIAN
BEGIN:VEVENT
URL;VALUE=URI:https://www.boardoftrade.com/events/6843
DTSTART:20220224T200000Z
DTEND:20220224T210000Z
UID:6843eventcalendar.boardoftrade.com
DTSTAMP:20260419T142219Z
LOCATION:
DESCRIPTION:Schedule: \nReception: 12:00 - 1:00 p.m. PT\n \nEvent Detail Page: https://www.boardoftrade.com/events/6843
X-ALT-DESC;FMTTYPE=text/html:<!doctype html><html><body><div>Schedule: <p>Reception: 12:00 - 1:00 p.m. PT</p></div>&nbsp\;<div>Event Detail Page: https://www.boardoftrade.com/events/6843</div></body></html>

SUMMARY:Members' Speed Networking with Calgary Chamber of Commerce
END:VEVENT
END:VCALENDAR