
BEGIN:VCALENDAR
VERSION:2.0
CALSCALE:GREGORIAN
BEGIN:VEVENT
URL;VALUE=URI:https://www.boardoftrade.com/events/6842
DTSTART:20220311T010000Z
DTEND:20220311T030000Z
UID:6842eventcalendar.boardoftrade.com
DTSTAMP:20260419T142054Z
LOCATION:Steamworks Brew Pub | 375 Water St | Vancouver | 
DESCRIPTION:Schedule: \nReception: 5:00 - 7:00 p.m.\n \nEvent Detail Page: https://www.boardoftrade.com/events/6842
X-ALT-DESC;FMTTYPE=text/html:<!doctype html><html><body><div>Schedule: <p>Reception: 5:00 - 7:00 p.m.</p></div>&nbsp\;<div>Event Detail Page: https://www.boardoftrade.com/events/6842</div></body></html>

SUMMARY:Members' Reception at Steamworks Brew Pub
END:VEVENT
END:VCALENDAR