
BEGIN:VCALENDAR
VERSION:2.0
CALSCALE:GREGORIAN
BEGIN:VEVENT
URL;VALUE=URI:https://www.boardoftrade.com/events/6840
DTSTART:20220215T200000Z
DTEND:20220215T210000Z
UID:6840eventcalendar.boardoftrade.com
DTSTAMP:20260419T160508Z
LOCATION:
DESCRIPTION:Schedule: \nOnline Program 12:00 - 1:00 p.m. PT\n \nEvent Detail Page: https://www.boardoftrade.com/events/6840
X-ALT-DESC;FMTTYPE=text/html:<!doctype html><html><body><div>Schedule: <p>Online Program 12:00 - 1:00 p.m. PT</p></div>&nbsp\;<div>Event Detail Page: https://www.boardoftrade.com/events/6840</div></body></html>

SUMMARY:Let's "Get REAL" About Mental Health
END:VEVENT
END:VCALENDAR