
BEGIN:VCALENDAR
VERSION:2.0
CALSCALE:GREGORIAN
BEGIN:VEVENT
URL;VALUE=URI:https://www.boardoftrade.com/events/6839
DTSTART:20220405T160000Z
DTEND:20220407T180000Z
UID:6839eventcalendar.boardoftrade.com
DTSTAMP:20260419T142054Z
LOCATION:
DESCRIPTION:Schedule: \nApril 5\, 6\, and 7\, 2022\n9:00  - 11:00 a.m. PT\n\nPlease note a post-event recording is not available for this event. \n\n \nEvent Detail Page: https://www.boardoftrade.com/events/6839
X-ALT-DESC;FMTTYPE=text/html:<!doctype html><html><body><div>Schedule: <p>April 5\, 6\, and 7\, 2022<BR>9:00  - 11:00 a.m. PT<BR><BR>Please note a post-event recording is not available for this event. <BR></p></div>&nbsp\;<div>Event Detail Page: https://www.boardoftrade.com/events/6839</div></body></html>

SUMMARY:Foundations in Diversity and Inclusion Certificate
END:VEVENT
END:VCALENDAR