
BEGIN:VCALENDAR
VERSION:2.0
CALSCALE:GREGORIAN
BEGIN:VEVENT
URL;VALUE=URI:https://www.boardoftrade.com/events/6838
DTSTART:20220311T170000Z
DTEND:20220312T000000Z
UID:6838eventcalendar.boardoftrade.com
DTSTAMP:20260419T142053Z
LOCATION:Pan Pacific Hotel 999 Canada Place\, Vancouver |  | 
DESCRIPTION:Schedule: \nBreakfast & Registration: 8:30 a.m. - 9:00 a.m. \nProgram: 9:00 a.m. - 12:00 p.m.\nNetworking Lunch:12:00 p.m. - 1:00 p.m.\nProgram: 1:00 p.m - 4:00 p.m.\n \nEvent Detail Page: https://www.boardoftrade.com/events/6838
X-ALT-DESC;FMTTYPE=text/html:<!doctype html><html><body><div>Schedule: <p>Breakfast & Registration: 8:30 a.m. - 9:00 a.m. <BR>Program: 9:00 a.m. - 12:00 p.m.<BR>Networking Lunch:12:00 p.m. - 1:00 p.m.<BR>Program: 1:00 p.m - 4:00 p.m.</p></div>&nbsp\;<div>Event Detail Page: https://www.boardoftrade.com/events/6838</div></body></html>

SUMMARY:Integrated e-Commerce Essentials
END:VEVENT
END:VCALENDAR