
BEGIN:VCALENDAR
VERSION:2.0
CALSCALE:GREGORIAN
BEGIN:VEVENT
URL;VALUE=URI:https://www.boardoftrade.com/events/6831
DTSTART:20220331T160000Z
DTEND:20220428T190000Z
UID:6831eventcalendar.boardoftrade.com
DTSTAMP:20260419T142136Z
LOCATION:Greater Vancouver Board of Trade OfficeWorld Trade CentreSuite 400 - 999 Canada Place\, Vancouver  | 
DESCRIPTION:Schedule: \nThursday\, March 31 - April 28\n9:00 a.m. - 12:00 p.m. PT\n \nEvent Detail Page: https://www.boardoftrade.com/events/6831
X-ALT-DESC;FMTTYPE=text/html:<!doctype html><html><body><div>Schedule: <p>Thursday\, March 31 - April 28<BR>9:00 a.m. - 12:00 p.m. PT</p></div>&nbsp\;<div>Event Detail Page: https://www.boardoftrade.com/events/6831</div></body></html>

SUMMARY:ESG Fundamentals Microcredentials: Design your ESG action plan
END:VEVENT
END:VCALENDAR