
BEGIN:VCALENDAR
VERSION:2.0
CALSCALE:GREGORIAN
BEGIN:VEVENT
URL;VALUE=URI:https://www.boardoftrade.com/events/6827
DTSTART:20211211T030000Z
DTEND:20211211T053000Z
UID:6827eventcalendar.boardoftrade.com
DTSTAMP:20260419T160548Z
LOCATION:Orpheum Theatre | 601 Smithe St | Vancouver | 
DESCRIPTION:Schedule: \nGVBOT cocktail reception: 7 - 8 p.m.\nConcert: 8 p.m.\n \nEvent Detail Page: https://www.boardoftrade.com/events/6827
X-ALT-DESC;FMTTYPE=text/html:<!doctype html><html><body><div>Schedule: <p>GVBOT cocktail reception: 7 - 8 p.m.<BR>Concert: 8 p.m.</p></div>&nbsp\;<div>Event Detail Page: https://www.boardoftrade.com/events/6827</div></body></html>

SUMMARY:Member Experience:  VSO Christmas Concert with Cocktail Reception
END:VEVENT
END:VCALENDAR