
BEGIN:VCALENDAR
VERSION:2.0
CALSCALE:GREGORIAN
BEGIN:VEVENT
URL;VALUE=URI:https://www.boardoftrade.com/events/6825
DTSTART:20220302T170000Z
DTEND:20220325T210000Z
UID:6825eventcalendar.boardoftrade.com
DTSTAMP:20260419T142136Z
LOCATION:
DESCRIPTION:Event Detail Page: https://www.boardoftrade.com/events/6825
X-ALT-DESC;FMTTYPE=text/html:<!doctype html><html><body><div>Event Detail Page: https://www.boardoftrade.com/events/6825</div></body></html>

SUMMARY:Regional Business Crews: Network online and build lasting business relationships!
END:VEVENT
END:VCALENDAR