
BEGIN:VCALENDAR
VERSION:2.0
CALSCALE:GREGORIAN
BEGIN:VEVENT
URL;VALUE=URI:https://www.boardoftrade.com/events/6824
DTSTART:20211207T153000Z
DTEND:20211207T170000Z
UID:6824eventcalendar.boardoftrade.com
DTSTAMP:20260419T160620Z
LOCATION:Sheraton Wall Centre - Pavilion Ballroom | 1000 Burrard Street\, Vancouver | 
DESCRIPTION:Schedule: \nRegistration\, Breakfast & Networking:  7:30 - 8:00 a.m.\nProgram:  8:00 - 9:00 a.m.\n \nEvent Detail Page: https://www.boardoftrade.com/events/6824
X-ALT-DESC;FMTTYPE=text/html:<!doctype html><html><body><div>Schedule: <p>Registration\, Breakfast & Networking:  7:30 - 8:00 a.m.<BR>Program:  8:00 - 9:00 a.m.</p></div>&nbsp\;<div>Event Detail Page: https://www.boardoftrade.com/events/6824</div></body></html>

SUMMARY:The Future of Connectivity
END:VEVENT
END:VCALENDAR