
BEGIN:VCALENDAR
VERSION:2.0
CALSCALE:GREGORIAN
BEGIN:VEVENT
URL;VALUE=URI:https://www.boardoftrade.com/events/6822
DTSTART:20211126T010000Z
DTEND:20211126T040000Z
UID:6822eventcalendar.boardoftrade.com
DTSTAMP:20260419T160511Z
LOCATION:Edge Catering 1927 East Hastings St VancouverEnter through Edge Kitchen - East Village Following the orders announced under the Emergency Program Act we encourage you to\, walk\, carpool\, ride a bike\, or take transit to this event.  | 
DESCRIPTION:Schedule: \nRegistration & Networking: 5:00 - 7:00 p.m.\n\n\n \nEvent Detail Page: https://www.boardoftrade.com/events/6822
X-ALT-DESC;FMTTYPE=text/html:<!doctype html><html><body><div>Schedule: <p>Registration & Networking: 5:00 - 7:00 p.m.<BR><BR></p></div>&nbsp\;<div>Event Detail Page: https://www.boardoftrade.com/events/6822</div></body></html>

SUMMARY:Member Experience at Edge Catering
END:VEVENT
END:VCALENDAR