
BEGIN:VCALENDAR
VERSION:2.0
CALSCALE:GREGORIAN
BEGIN:VEVENT
URL;VALUE=URI:https://www.boardoftrade.com/events/6820
DTSTART:20220615T183000Z
DTEND:20220615T210000Z
UID:6820eventcalendar.boardoftrade.com
DTSTAMP:20260419T130535Z
LOCATION:Fairmont Hotel Vancouver - Pacific Ballroom | 900 W Georgia St.\, Vancouver | 
DESCRIPTION:Schedule: \nRegistration & Lunch:  11:30 a.m. - 12:30 p.m. PT\nProgram:  12:30 - 2:00 p.m. PT\n \nEvent Detail Page: https://www.boardoftrade.com/events/6820
X-ALT-DESC;FMTTYPE=text/html:<!doctype html><html><body><div>Schedule: <p>Registration & Lunch:  11:30 a.m. - 12:30 p.m. PT<BR>Program:  12:30 - 2:00 p.m. PT</p></div>&nbsp\;<div>Event Detail Page: https://www.boardoftrade.com/events/6820</div></body></html>

SUMMARY:Olympic and Paralympic Games: Remember. Renew. Reimagine.
END:VEVENT
END:VCALENDAR