
BEGIN:VCALENDAR
VERSION:2.0
CALSCALE:GREGORIAN
BEGIN:VEVENT
URL;VALUE=URI:https://www.boardoftrade.com/events/6819
DTSTART:20220121T160000Z
DTEND:20220121T200000Z
UID:6819eventcalendar.boardoftrade.com
DTSTAMP:20260420T103825Z
LOCATION:
DESCRIPTION:Schedule: \nProgram: 8:00 a.m - 12:00 p.m. PT\n\n<strong><a href="https://www.boardoftrade.com/files/events/2022/econ-outlook/econ-outlook-agenda-card.pdf" target="_new">AGENDA</a></strong>\n\n \nEvent Detail Page: https://www.boardoftrade.com/events/6819
X-ALT-DESC;FMTTYPE=text/html:<!doctype html><html><body><div>Schedule: <p>Program: 8:00 a.m - 12:00 p.m. PT<BR><BR><P><strong><a href="https://www.boardoftrade.com/files/events/2022/econ-outlook/econ-outlook-agenda-card.pdf" target="_new">AGENDA</a></strong></P></p></div>&nbsp\;<div>Event Detail Page: https://www.boardoftrade.com/events/6819</div></body></html>

SUMMARY:Economic Outlook Forum 2022 Presented by Scotiabank
END:VEVENT
END:VCALENDAR