
BEGIN:VCALENDAR
VERSION:2.0
CALSCALE:GREGORIAN
BEGIN:VEVENT
URL;VALUE=URI:https://www.boardoftrade.com/events/6817
DTSTART:20220428T150000Z
DTEND:20220527T193000Z
UID:6817eventcalendar.boardoftrade.com
DTSTAMP:20260419T142136Z
LOCATION:
DESCRIPTION:Event Detail Page: https://www.boardoftrade.com/events/6817
X-ALT-DESC;FMTTYPE=text/html:<!doctype html><html><body><div>Event Detail Page: https://www.boardoftrade.com/events/6817</div></body></html>

SUMMARY:National Business Crews: Network with participants across Canada
END:VEVENT
END:VCALENDAR