
BEGIN:VCALENDAR
VERSION:2.0
CALSCALE:GREGORIAN
BEGIN:VEVENT
URL;VALUE=URI:https://www.boardoftrade.com/events/6816
DTSTART:20211214T153000Z
DTEND:20211214T193000Z
UID:6816eventcalendar.boardoftrade.com
DTSTAMP:20260419T160548Z
LOCATION:Fairmont Waterfront - Waterfront Ballroom | 900 Canada Pl\, Vancouver | 
DESCRIPTION:Schedule: \nRegistration: 7:30 a.m - 8:00 a.m PT\nProgram: 8:00 a.m - 11:30 a.m. PT\n\n \nEvent Detail Page: https://www.boardoftrade.com/events/6816
X-ALT-DESC;FMTTYPE=text/html:<!doctype html><html><body><div>Schedule: <p>Registration: 7:30 a.m - 8:00 a.m PT<BR>Program: 8:00 a.m - 11:30 a.m. PT<BR></p></div>&nbsp\;<div>Event Detail Page: https://www.boardoftrade.com/events/6816</div></body></html>

SUMMARY:Energy Forum 2021 Presented by Bennett Jones: Finding net zero and growing our economy\, together
END:VEVENT
END:VCALENDAR