
BEGIN:VCALENDAR
VERSION:2.0
CALSCALE:GREGORIAN
BEGIN:VEVENT
URL;VALUE=URI:https://www.boardoftrade.com/events/6814
DTSTART:20211125T000000Z
DTEND:20211125T010000Z
UID:6814eventcalendar.boardoftrade.com
DTSTAMP:20260419T160618Z
LOCATION:
DESCRIPTION:Schedule: \nReception: 4:00 - 5:00 p.m. PT\n \nEvent Detail Page: https://www.boardoftrade.com/events/6814
X-ALT-DESC;FMTTYPE=text/html:<!doctype html><html><body><div>Schedule: <p>Reception: 4:00 - 5:00 p.m. PT</p></div>&nbsp\;<div>Event Detail Page: https://www.boardoftrade.com/events/6814</div></body></html>

SUMMARY:Members' Speed Networking
END:VEVENT
END:VCALENDAR