
BEGIN:VCALENDAR
VERSION:2.0
CALSCALE:GREGORIAN
BEGIN:VEVENT
URL;VALUE=URI:https://www.boardoftrade.com/events/6813
DTSTART:20211119T193000Z
DTEND:20211119T213000Z
UID:6813eventcalendar.boardoftrade.com
DTSTAMP:20260419T160547Z
LOCATION:Fairmont Hotel Vancouver - BC Ballroom | 900 W Georgia St.\, Vancouver | 
DESCRIPTION:Schedule: \nRegistration\, Buffet Lunch & Networking:  11:30 a.m. - 12:30 p.m.\nProgram:  12:30 - 1:30 p.m.\n \nEvent Detail Page: https://www.boardoftrade.com/events/6813
X-ALT-DESC;FMTTYPE=text/html:<!doctype html><html><body><div>Schedule: <p>Registration\, Buffet Lunch & Networking:  11:30 a.m. - 12:30 p.m.<BR>Program:  12:30 - 1:30 p.m.</p></div>&nbsp\;<div>Event Detail Page: https://www.boardoftrade.com/events/6813</div></body></html>

SUMMARY:TransLink's Annual Address: Reconnecting our vibrant region
END:VEVENT
END:VCALENDAR