
BEGIN:VCALENDAR
VERSION:2.0
CALSCALE:GREGORIAN
BEGIN:VEVENT
URL;VALUE=URI:https://www.boardoftrade.com/events/6811
DTSTART:20220224T170000Z
DTEND:20220224T190000Z
UID:6811eventcalendar.boardoftrade.com
DTSTAMP:20260419T142245Z
LOCATION:
DESCRIPTION:Schedule: \nOnline Program 9:00 a.m. - 11:00 a.m. PT\n\nYou will be sent a Zoom meeting link to participate in this event by 8:00 a.m. PT on February 24. Please do not share the link as it will inhibit your ability to join.\n \nEvent Detail Page: https://www.boardoftrade.com/events/6811
X-ALT-DESC;FMTTYPE=text/html:<!doctype html><html><body><div>Schedule: <p>Online Program 9:00 a.m. - 11:00 a.m. PT<BR><BR><b>You will be sent a Zoom meeting link to participate in this event by 8:00 a.m. PT on February 24. Please do not share the link as it will inhibit your ability to join.</b></p></div>&nbsp\;<div>Event Detail Page: https://www.boardoftrade.com/events/6811</div></body></html>

SUMMARY:The Intersections of Race and Other Identities
END:VEVENT
END:VCALENDAR