
BEGIN:VCALENDAR
VERSION:2.0
CALSCALE:GREGORIAN
BEGIN:VEVENT
URL;VALUE=URI:https://www.boardoftrade.com/events/6806
DTSTART:20220125T170000Z
DTEND:20220127T190000Z
UID:6806eventcalendar.boardoftrade.com
DTSTAMP:20260419T160640Z
LOCATION:
DESCRIPTION:Schedule: \nJanuary 25\, 26\, and 27\, 2022\n9:00  - 11:00 a.m. PT\n\nPlease note a post-event recording is not available for this event. \n\n \nEvent Detail Page: https://www.boardoftrade.com/events/6806
X-ALT-DESC;FMTTYPE=text/html:<!doctype html><html><body><div>Schedule: <p>January 25\, 26\, and 27\, 2022<BR>9:00  - 11:00 a.m. PT<BR><BR>Please note a post-event recording is not available for this event. <BR></p></div>&nbsp\;<div>Event Detail Page: https://www.boardoftrade.com/events/6806</div></body></html>

SUMMARY:Foundations in Diversity and Inclusion Certificate
END:VEVENT
END:VCALENDAR