
BEGIN:VCALENDAR
VERSION:2.0
CALSCALE:GREGORIAN
BEGIN:VEVENT
URL;VALUE=URI:https://www.boardoftrade.com/events/6801
DTSTART:20211123T193000Z
DTEND:20211123T213000Z
UID:6801eventcalendar.boardoftrade.com
DTSTAMP:20260419T160444Z
LOCATION:Fairmont Waterfront Waterfront Ballroom900 Canada PlaceVancouver Following the orders announced under the Emergency Program Act we encourage you to\, walk\, carpool\, ride a bike\, or take transit to this event.  | 
DESCRIPTION:Schedule: \nRegistration\, Lunch & Networking: 11:30 a.m. - 12:30 p.m.\nProgram: 12:30 - 1:30 p.m.\n \nEvent Detail Page: https://www.boardoftrade.com/events/6801
X-ALT-DESC;FMTTYPE=text/html:<!doctype html><html><body><div>Schedule: <p>Registration\, Lunch & Networking: 11:30 a.m. - 12:30 p.m.<BR>Program: 12:30 - 1:30 p.m.</p></div>&nbsp\;<div>Event Detail Page: https://www.boardoftrade.com/events/6801</div></body></html>

SUMMARY:State of the City Address with Mayor Kennedy Stewart
END:VEVENT
END:VCALENDAR