
BEGIN:VCALENDAR
VERSION:2.0
CALSCALE:GREGORIAN
BEGIN:VEVENT
URL;VALUE=URI:https://www.boardoftrade.com/events/6794
DTSTART:20211028T010000Z
DTEND:20211028T040000Z
UID:6794eventcalendar.boardoftrade.com
DTSTAMP:20260419T160547Z
LOCATION:BC Place Stadium | 777 Pacific Blvd | Vancouver | 
DESCRIPTION:Schedule: \nArrive for Opening Ceremonies: 6:00 p.m.\nMatch: 7:00 - 8:30 p.m. (approx)\n \nEvent Detail Page: https://www.boardoftrade.com/events/6794
X-ALT-DESC;FMTTYPE=text/html:<!doctype html><html><body><div>Schedule: <p>Arrive for Opening Ceremonies: 6:00 p.m.<BR>Match: 7:00 - 8:30 p.m. (approx)</p></div>&nbsp\;<div>Event Detail Page: https://www.boardoftrade.com/events/6794</div></body></html>

SUMMARY:Members' Experience with the Vancouver Whitecaps FC
END:VEVENT
END:VCALENDAR