
BEGIN:VCALENDAR
VERSION:2.0
CALSCALE:GREGORIAN
BEGIN:VEVENT
URL;VALUE=URI:https://www.boardoftrade.com/events/6792
DTSTART:20211021T150000Z
DTEND:20211118T203000Z
UID:6792eventcalendar.boardoftrade.com
DTSTAMP:20260419T160630Z
LOCATION:
DESCRIPTION:Event Detail Page: https://www.boardoftrade.com/events/6792
X-ALT-DESC;FMTTYPE=text/html:<!doctype html><html><body><div>Event Detail Page: https://www.boardoftrade.com/events/6792</div></body></html>

SUMMARY:National Business Crews: Network with participants across Canada
END:VEVENT
END:VCALENDAR