
BEGIN:VCALENDAR
VERSION:2.0
CALSCALE:GREGORIAN
BEGIN:VEVENT
URL;VALUE=URI:https://www.boardoftrade.com/events/6790
DTSTART:20210927T190000Z
DTEND:20210927T200000Z
UID:6790eventcalendar.boardoftrade.com
DTSTAMP:20260419T160508Z
LOCATION:
DESCRIPTION:Schedule: \nOnline Program: 12:00 - 1:00 p.m. PT\n \nEvent Detail Page: https://www.boardoftrade.com/events/6790
X-ALT-DESC;FMTTYPE=text/html:<!doctype html><html><body><div>Schedule: <p>Online Program: 12:00 - 1:00 p.m. PT</p></div>&nbsp\;<div>Event Detail Page: https://www.boardoftrade.com/events/6790</div></body></html>

SUMMARY:Unlearning Gender Roles\, Biases\, and Stereotypes
END:VEVENT
END:VCALENDAR