
BEGIN:VCALENDAR
VERSION:2.0
CALSCALE:GREGORIAN
BEGIN:VEVENT
URL;VALUE=URI:https://www.boardoftrade.com/events/6789
DTSTART:20211021T010000Z
DTEND:20211021T023000Z
UID:6789eventcalendar.boardoftrade.com
DTSTAMP:20260419T160322Z
LOCATION:
DESCRIPTION:Schedule: \nOnline Program: 6:00 - 7:30 p.m.\n\n\n<i>You will be sent a Zoom link to participate in this event by 4:00 p.m. PT on October 20. Please don’t share the link as it will inhibit your ability to join.</i>\n \nEvent Detail Page: https://www.boardoftrade.com/events/6789
X-ALT-DESC;FMTTYPE=text/html:<!doctype html><html><body><div>Schedule: <p>Online Program: 6:00 - 7:30 p.m.<BR><BR><BR><i>You will be sent a Zoom link to participate in this event by 4:00 p.m. PT on October 20. Please don’t share the link as it will inhibit your ability to join.</i></p></div>&nbsp\;<div>Event Detail Page: https://www.boardoftrade.com/events/6789</div></body></html>

SUMMARY:Bringing Your A-GAME to Your Team
END:VEVENT
END:VCALENDAR