
BEGIN:VCALENDAR
VERSION:2.0
CALSCALE:GREGORIAN
BEGIN:VEVENT
URL;VALUE=URI:https://www.boardoftrade.com/events/6787
DTSTART:20210914T200000Z
DTEND:20210914T211500Z
UID:6787eventcalendar.boardoftrade.com
DTSTAMP:20260419T160619Z
LOCATION:
DESCRIPTION:Schedule: \nOnline Program 1:00 - 2:15 p.m. PT\n \nEvent Detail Page: https://www.boardoftrade.com/events/6787
X-ALT-DESC;FMTTYPE=text/html:<!doctype html><html><body><div>Schedule: <p>Online Program 1:00 - 2:15 p.m. PT</p></div>&nbsp\;<div>Event Detail Page: https://www.boardoftrade.com/events/6787</div></body></html>

SUMMARY:Canada Votes 2021
END:VEVENT
END:VCALENDAR