
BEGIN:VCALENDAR
VERSION:2.0
CALSCALE:GREGORIAN
BEGIN:VEVENT
URL;VALUE=URI:https://www.boardoftrade.com/events/6785
DTSTART:20210910T000000Z
DTEND:20210910T020000Z
UID:6785eventcalendar.boardoftrade.com
DTSTAMP:20260419T160320Z
LOCATION:British Columbia Professional Firefighters Burn Fund | 3891 Main St | Vancouver | 
DESCRIPTION:Schedule: \nReception: 5:00 - 7:00 p.m.\n \nEvent Detail Page: https://www.boardoftrade.com/events/6785
X-ALT-DESC;FMTTYPE=text/html:<!doctype html><html><body><div>Schedule: <p>Reception: 5:00 - 7:00 p.m.</p></div>&nbsp\;<div>Event Detail Page: https://www.boardoftrade.com/events/6785</div></body></html>

SUMMARY:Members' Reception with BC Professional Fire Fighters Burn Fund
END:VEVENT
END:VCALENDAR