
BEGIN:VCALENDAR
VERSION:2.0
CALSCALE:GREGORIAN
BEGIN:VEVENT
URL;VALUE=URI:https://www.boardoftrade.com/events/6782
DTSTART:20211019T190000Z
DTEND:20211019T200000Z
UID:6782eventcalendar.boardoftrade.com
DTSTAMP:20260419T160630Z
LOCATION:
DESCRIPTION:Schedule: \nOnline Program: 12:00 - 1:00 p.m. PT\n \nEvent Detail Page: https://www.boardoftrade.com/events/6782
X-ALT-DESC;FMTTYPE=text/html:<!doctype html><html><body><div>Schedule: <p>Online Program: 12:00 - 1:00 p.m. PT</p></div>&nbsp\;<div>Event Detail Page: https://www.boardoftrade.com/events/6782</div></body></html>

SUMMARY:Strategies to Protect Your Intellectual Property
END:VEVENT
END:VCALENDAR