
BEGIN:VCALENDAR
VERSION:2.0
CALSCALE:GREGORIAN
BEGIN:VEVENT
URL;VALUE=URI:https://www.boardoftrade.com/events/6777
DTSTART:20211123T170000Z
DTEND:20211125T190000Z
UID:6777eventcalendar.boardoftrade.com
DTSTAMP:20260419T160444Z
LOCATION:
DESCRIPTION:Schedule: \nNovember 23\, 24\, and 25\, 2021\n9:00  - 11:00 a.m. PT\n\nPlease note a post-event recording is not available for this event. \n\n \nEvent Detail Page: https://www.boardoftrade.com/events/6777
X-ALT-DESC;FMTTYPE=text/html:<!doctype html><html><body><div>Schedule: <p>November 23\, 24\, and 25\, 2021<BR>9:00  - 11:00 a.m. PT<BR><BR>Please note a post-event recording is not available for this event. <BR></p></div>&nbsp\;<div>Event Detail Page: https://www.boardoftrade.com/events/6777</div></body></html>

SUMMARY:Foundations in Diversity and Inclusion Certificate
END:VEVENT
END:VCALENDAR