
BEGIN:VCALENDAR
VERSION:2.0
CALSCALE:GREGORIAN
BEGIN:VEVENT
URL;VALUE=URI:https://www.boardoftrade.com/events/6776
DTSTART:20210928T160000Z
DTEND:20210930T180000Z
UID:6776eventcalendar.boardoftrade.com
DTSTAMP:20260419T160322Z
LOCATION:
DESCRIPTION:Schedule: \nSeptember 28\, 29\, and 30\, 2021\n9:00 - 11:00 a.m. PT\n\nPlease note a post-event recording is not available for this event. \n\n \nEvent Detail Page: https://www.boardoftrade.com/events/6776
X-ALT-DESC;FMTTYPE=text/html:<!doctype html><html><body><div>Schedule: <p>September 28\, 29\, and 30\, 2021<BR>9:00 - 11:00 a.m. PT<BR><BR>Please note a post-event recording is not available for this event. <BR></p></div>&nbsp\;<div>Event Detail Page: https://www.boardoftrade.com/events/6776</div></body></html>

SUMMARY:Foundations in Diversity and Inclusion Certificate
END:VEVENT
END:VCALENDAR