
BEGIN:VCALENDAR
VERSION:2.0
CALSCALE:GREGORIAN
BEGIN:VEVENT
URL;VALUE=URI:https://www.boardoftrade.com/events/6775
DTSTART:20210916T000000Z
DTEND:20210916T020000Z
UID:6775eventcalendar.boardoftrade.com
DTSTAMP:20260419T160506Z
LOCATION:
DESCRIPTION:Schedule: \nVirtual Networking: 5:00-5:30 p.m.\nGraduation Program 5:30-5:45 p.m.\nKeynote & Fireside Chat: 5:45-6:20 p.m.\nAwards Presentation: 6:20-7:00 p.m.\n \nEvent Detail Page: https://www.boardoftrade.com/events/6775
X-ALT-DESC;FMTTYPE=text/html:<!doctype html><html><body><div>Schedule: <p>Virtual Networking: 5:00-5:30 p.m.<BR>Graduation Program 5:30-5:45 p.m.<BR>Keynote & Fireside Chat: 5:45-6:20 p.m.<BR>Awards Presentation: 6:20-7:00 p.m.</p></div>&nbsp\;<div>Event Detail Page: https://www.boardoftrade.com/events/6775</div></body></html>

SUMMARY:2020-21  LOT Graduation and New Student Welcome
END:VEVENT
END:VCALENDAR